BEGIN:VCALENDAR
VERSION:2.0
PRODID:-//Office of Sustainability - ECPv6.15.15//NONSGML v1.0//EN
CALSCALE:GREGORIAN
METHOD:PUBLISH
X-WR-CALNAME:Office of Sustainability
X-ORIGINAL-URL:https://sustain.auburn.edu
X-WR-CALDESC:Events for Office of Sustainability
REFRESH-INTERVAL;VALUE=DURATION:PT1H
X-Robots-Tag:noindex
X-PUBLISHED-TTL:PT1H
BEGIN:VTIMEZONE
TZID:America/Chicago
BEGIN:DAYLIGHT
TZOFFSETFROM:-0600
TZOFFSETTO:-0500
TZNAME:CDT
DTSTART:20220313T080000
END:DAYLIGHT
BEGIN:STANDARD
TZOFFSETFROM:-0500
TZOFFSETTO:-0600
TZNAME:CST
DTSTART:20221106T070000
END:STANDARD
BEGIN:DAYLIGHT
TZOFFSETFROM:-0600
TZOFFSETTO:-0500
TZNAME:CDT
DTSTART:20230312T080000
END:DAYLIGHT
BEGIN:STANDARD
TZOFFSETFROM:-0500
TZOFFSETTO:-0600
TZNAME:CST
DTSTART:20231105T070000
END:STANDARD
BEGIN:DAYLIGHT
TZOFFSETFROM:-0600
TZOFFSETTO:-0500
TZNAME:CDT
DTSTART:20240310T080000
END:DAYLIGHT
BEGIN:STANDARD
TZOFFSETFROM:-0500
TZOFFSETTO:-0600
TZNAME:CST
DTSTART:20241103T070000
END:STANDARD
END:VTIMEZONE
BEGIN:VEVENT
DTSTART;VALUE=DATE:20230424
DTEND;VALUE=DATE:20230429
DTSTAMP:20260425T083638
CREATED:20230324T174205Z
LAST-MODIFIED:20230324T174205Z
UID:10003063-1682294400-1682726399@sustain.auburn.edu
SUMMARY:Employee Appreciation Week
DESCRIPTION:Employee Appreciation Week is held to honor the many thousands of employees who help make Auburn such a great place to work. Each day\, a special event will be held to honor employees. The schedule is posted below: \n\nMonday\, April 24 – Departmental Appreciation Day\nTuesday\, April 25 – Employee Recognition Program\, 1 p.m.\, The Hotel at Auburn University and Dixon Conference Center  \nWednesday\, April 26 – Walk at Lunch\, 11:45 a.m.-12:45 a.m.\, Walkers can meet outside of the Harrison College of Pharmacy\, Facilities Management – Building 1\, the College of Veterinary Medicine\, or the East Glenn Administrative Complex. \nThursday\, April 27 – To be determined\nFriday\, April 28 – Departmental Showcase\, 9 a.m. – 2 p.m.\, Alumni Center\n\nVisit this link for more information about Employee Appreciation Week
URL:https://sustain.auburn.edu/event/employee-appreciation-week/
CATEGORIES:All Employees
ATTACH;FMTTYPE=image/png:https://sustain.auburn.edu/wp-content/uploads/2022/08/auburn-logo-event.png
END:VEVENT
BEGIN:VEVENT
DTSTART;VALUE=DATE:20230426
DTEND;VALUE=DATE:20230427
DTSTAMP:20260425T083638
CREATED:20230411T210151Z
LAST-MODIFIED:20230411T210151Z
UID:10004040-1682467200-1682553599@sustain.auburn.edu
SUMMARY:Denim Day
DESCRIPTION:April is Sexual Assault Awareness Month\, which intends to honor and show support to victims of sexual abuse or violence. One way to show your support for the victims is to join the world in wearing denim on April 26th. This is a physical and visual sign to victims that they are not alone\, no matter how alone they feel.
URL:https://sustain.auburn.edu/event/denim-day/
CATEGORIES:Anyone
END:VEVENT
BEGIN:VEVENT
DTSTART;TZID=America/Chicago:20230426T113000
DTEND;TZID=America/Chicago:20230426T123000
DTSTAMP:20260425T083638
CREATED:20230403T164045Z
LAST-MODIFIED:20230403T164045Z
UID:10003067-1682508600-1682512200@sustain.auburn.edu
SUMMARY:Walk @ Lunch
DESCRIPTION:Walk @ Lunch is one of several events planned for Employee Appreciation Week (April 24-28). Dozens of employees are expected to participate in one of the walks across campus. \nEach walk will take approximately 30 minutes. If you work off campus or in another county\, that’s OK. ACES offices and other off-campus units are encouraged to host their own events!\nWalk @ Lunch events are held annually across America. It’s a good reminder that a brisk\, 30-minute walk can help people:\n• Decrease the risk of heart attack and type 2 diabetes.\n• Maintain a healthy weight.\n• Improve muscle tone.\n• Reduce stress. \nIf you would like to share photos from your respective event\, just email univhr@auburn.edu or post them to social media with the #auappreciate
URL:https://sustain.auburn.edu/event/walk-lunch/
CATEGORIES:Administration,All Employees,Celebration,Daytime,Exercise,Faculty,Gathering,Staff
ATTACH;FMTTYPE=image/png:https://sustain.auburn.edu/wp-content/uploads/2023/04/Harrison-College-of-Pharmacy-Event-.png
END:VEVENT
BEGIN:VEVENT
DTSTART;TZID=America/Chicago:20230426T180000
DTEND;TZID=America/Chicago:20230426T200000
DTSTAMP:20260425T083638
CREATED:20230403T181153Z
LAST-MODIFIED:20230403T181153Z
UID:10004026-1682532000-1682539200@sustain.auburn.edu
SUMMARY:Night at the Museum
DESCRIPTION:To celebrate his international solo museum debut\, Masaomi Yasunaga will join us for our end-of-the-semester celebration. Join us for gallery exploration and mindful making. Experience our spring exhibitions one last time before we close for summer change out. \nAdmission is free. Registration is encouraged and appreciated. \n 
URL:https://sustain.auburn.edu/event/night-at-the-museum/
LOCATION:Event Venue | Jule Collins Smith Museum of Fine Art
CATEGORIES:Anyone,Evening,On Campus,Registration Open
ATTACH;FMTTYPE=image/png:https://sustain.auburn.edu/wp-content/uploads/2022/09/Jule-Collins-Smith-Museum-event.png
GEO:32.587748;-85.48373
END:VEVENT
END:VCALENDAR