BEGIN:VCALENDAR
VERSION:2.0
PRODID:-//Office of Sustainability - ECPv6.15.15//NONSGML v1.0//EN
CALSCALE:GREGORIAN
METHOD:PUBLISH
X-ORIGINAL-URL:https://sustain.auburn.edu
X-WR-CALDESC:Events for Office of Sustainability
REFRESH-INTERVAL;VALUE=DURATION:PT1H
X-Robots-Tag:noindex
X-PUBLISHED-TTL:PT1H
BEGIN:VTIMEZONE
TZID:America/Chicago
BEGIN:DAYLIGHT
TZOFFSETFROM:-0600
TZOFFSETTO:-0500
TZNAME:CDT
DTSTART:20220313T080000
END:DAYLIGHT
BEGIN:STANDARD
TZOFFSETFROM:-0500
TZOFFSETTO:-0600
TZNAME:CST
DTSTART:20221106T070000
END:STANDARD
BEGIN:DAYLIGHT
TZOFFSETFROM:-0600
TZOFFSETTO:-0500
TZNAME:CDT
DTSTART:20230312T080000
END:DAYLIGHT
BEGIN:STANDARD
TZOFFSETFROM:-0500
TZOFFSETTO:-0600
TZNAME:CST
DTSTART:20231105T070000
END:STANDARD
BEGIN:DAYLIGHT
TZOFFSETFROM:-0600
TZOFFSETTO:-0500
TZNAME:CDT
DTSTART:20240310T080000
END:DAYLIGHT
BEGIN:STANDARD
TZOFFSETFROM:-0500
TZOFFSETTO:-0600
TZNAME:CST
DTSTART:20241103T070000
END:STANDARD
END:VTIMEZONE
BEGIN:VEVENT
DTSTART;VALUE=DATE:20230424
DTEND;VALUE=DATE:20230429
DTSTAMP:20260424T093216
CREATED:20230324T174205Z
LAST-MODIFIED:20230324T174205Z
UID:10003063-1682294400-1682726399@sustain.auburn.edu
SUMMARY:Employee Appreciation Week
DESCRIPTION:Employee Appreciation Week is held to honor the many thousands of employees who help make Auburn such a great place to work. Each day\, a special event will be held to honor employees. The schedule is posted below: \n\nMonday\, April 24 – Departmental Appreciation Day\nTuesday\, April 25 – Employee Recognition Program\, 1 p.m.\, The Hotel at Auburn University and Dixon Conference Center  \nWednesday\, April 26 – Walk at Lunch\, 11:45 a.m.-12:45 a.m.\, Walkers can meet outside of the Harrison College of Pharmacy\, Facilities Management – Building 1\, the College of Veterinary Medicine\, or the East Glenn Administrative Complex. \nThursday\, April 27 – To be determined\nFriday\, April 28 – Departmental Showcase\, 9 a.m. – 2 p.m.\, Alumni Center\n\nVisit this link for more information about Employee Appreciation Week
URL:https://sustain.auburn.edu/event/employee-appreciation-week/
CATEGORIES:All Employees
ATTACH;FMTTYPE=image/png:https://sustain.auburn.edu/wp-content/uploads/2022/08/auburn-logo-event.png
END:VEVENT
BEGIN:VEVENT
DTSTART;TZID=America/Chicago:20230425T180000
DTEND;TZID=America/Chicago:20230425T200000
DTSTAMP:20260424T093216
CREATED:20230317T192805Z
LAST-MODIFIED:20230317T192805Z
UID:10004014-1682445600-1682452800@sustain.auburn.edu
SUMMARY:Queer Open Mic Night
DESCRIPTION:Join OID\, Auburn Circle\, and WEGL Radio for a queer-centered open mic night at Coffee Mafia. Anyone is encouraged to sign up to speak via this link\, or can sign up in person at the event.
URL:https://sustain.auburn.edu/event/queer-open-mic-night/
LOCATION:Event Venue | Coffee Mafia\, 414 S Gay St\, Auburn\, AL\, 36830\, United States
CATEGORIES:Anyone,Gathering,Off Campus,Social Event
ATTACH;FMTTYPE=image/png:https://sustain.auburn.edu/wp-content/uploads/2022/09/2022-OID-Logo-event.png
ORGANIZER;CN="Event Organizer | Auburn University Office of Inclusion and Diversity":MAILTO:diversity@auburn.edu
GEO:32.5981473;-85.4802359
X-APPLE-STRUCTURED-LOCATION;VALUE=URI;X-ADDRESS=Event Venue | Coffee Mafia 414 S Gay St Auburn AL 36830 United States;X-APPLE-RADIUS=500;X-TITLE=414 S Gay St:geo:-85.4802359,32.5981473
END:VEVENT
END:VCALENDAR