BEGIN:VCALENDAR
VERSION:2.0
PRODID:-//Office of Sustainability - ECPv6.15.15//NONSGML v1.0//EN
CALSCALE:GREGORIAN
METHOD:PUBLISH
X-WR-CALNAME:Office of Sustainability
X-ORIGINAL-URL:https://sustain.auburn.edu
X-WR-CALDESC:Events for Office of Sustainability
REFRESH-INTERVAL;VALUE=DURATION:PT1H
X-Robots-Tag:noindex
X-PUBLISHED-TTL:PT1H
BEGIN:VTIMEZONE
TZID:America/Chicago
BEGIN:DAYLIGHT
TZOFFSETFROM:-0600
TZOFFSETTO:-0500
TZNAME:CDT
DTSTART:20220313T080000
END:DAYLIGHT
BEGIN:STANDARD
TZOFFSETFROM:-0500
TZOFFSETTO:-0600
TZNAME:CST
DTSTART:20221106T070000
END:STANDARD
BEGIN:DAYLIGHT
TZOFFSETFROM:-0600
TZOFFSETTO:-0500
TZNAME:CDT
DTSTART:20230312T080000
END:DAYLIGHT
BEGIN:STANDARD
TZOFFSETFROM:-0500
TZOFFSETTO:-0600
TZNAME:CST
DTSTART:20231105T070000
END:STANDARD
BEGIN:DAYLIGHT
TZOFFSETFROM:-0600
TZOFFSETTO:-0500
TZNAME:CDT
DTSTART:20240310T080000
END:DAYLIGHT
BEGIN:STANDARD
TZOFFSETFROM:-0500
TZOFFSETTO:-0600
TZNAME:CST
DTSTART:20241103T070000
END:STANDARD
END:VTIMEZONE
BEGIN:VEVENT
DTSTART;TZID=America/Chicago:20230411T090000
DTEND;TZID=America/Chicago:20230411T120000
DTSTAMP:20260425T083703
CREATED:20230320T165110Z
LAST-MODIFIED:20230320T165110Z
UID:10003056-1681203600-1681214400@sustain.auburn.edu
SUMMARY:Auburn Pink Cleanup
DESCRIPTION:This public clean-up is part of the National Earth Day Events in celebration of Earth Day! Join your fellow members of the Auburn community in stewarding our home.
URL:https://sustain.auburn.edu/event/auburn-pink-cleanup/
LOCATION:Event Venue | Donald E. Davis Arboretum
CATEGORIES:Anyone,Volunteer
ATTACH;FMTTYPE=image/png:https://sustain.auburn.edu/wp-content/uploads/2023/03/Great-Global-Cleanup-Event.png
GEO:32.593754;-85.484464
END:VEVENT
BEGIN:VEVENT
DTSTART;TZID=America/Chicago:20230411T110000
DTEND;TZID=America/Chicago:20230411T120000
DTSTAMP:20260425T083703
CREATED:20230407T182746Z
LAST-MODIFIED:20230407T182746Z
UID:10004033-1681210800-1681214400@sustain.auburn.edu
SUMMARY:Sexual Violence and the Human Trafficking of Women and Girls: A Talk with Timothy Edgemon
DESCRIPTION:Join the faculty of Women and Gender Studies to hear from Timothy Edgemon on Sexual Violence and the Human Trafficking of Women and Girls. This event is in honor of Sexual Assault Awareness Month.
URL:https://sustain.auburn.edu/event/sexual-violence-and-the-human-trafficking-of-women-and-girls-a-talk-with-timothy-edgemon/
LOCATION:Event Venue | Mell Classroom Building – Room 3550\, Auburn University\, Auburn\, AL\, 36849\, United States
CATEGORIES:Anyone,Talk
ATTACH;FMTTYPE=image/jpeg:https://sustain.auburn.edu/wp-content/uploads/2022/06/auburn_formal_h_fullcolor_print-scaled.jpg
GEO:32.5909562;-85.4929785
X-APPLE-STRUCTURED-LOCATION;VALUE=URI;X-ADDRESS=Event Venue | Mell Classroom Building – Room 3550 Auburn University Auburn AL 36849 United States;X-APPLE-RADIUS=500;X-TITLE=Auburn University:geo:-85.4929785,32.5909562
END:VEVENT
BEGIN:VEVENT
DTSTART;TZID=America/Chicago:20230411T143000
DTEND;TZID=America/Chicago:20230411T183000
DTSTAMP:20260425T083703
CREATED:20230407T183104Z
LAST-MODIFIED:20230407T183104Z
UID:10004034-1681223400-1681237800@sustain.auburn.edu
SUMMARY:Art Against Sexual Assault
DESCRIPTION:This event is hosted in honor of Sexual Assault Awareness Month.
URL:https://sustain.auburn.edu/event/art-against-sexual-assault/
LOCATION:Event Venue | Melton Student Center – Room 2216\, United States
CATEGORIES:Discussion,On Campus,Students
ATTACH;FMTTYPE=image/png:https://sustain.auburn.edu/wp-content/uploads/2022/08/auburn-logo-event.png
GEO:37.09024;-95.712891
END:VEVENT
BEGIN:VEVENT
DTSTART;TZID=America/Chicago:20230411T153000
DTEND;TZID=America/Chicago:20230411T163000
DTSTAMP:20260425T083703
CREATED:20230403T174945Z
LAST-MODIFIED:20230403T174945Z
UID:10004023-1681227000-1681230600@sustain.auburn.edu
SUMMARY:Family Discovery Hikes
DESCRIPTION:Join Kreher guides for an educational adventure as you and your children take in the many sights and sounds of the Preserve. Discovery Hikes offer excellent opportunities to learn about nature and see wildlife up close while enjoying fresh air and exercise in our beautiful outdoors.\nDiscovery Hikes are for families with children ages 5 to 12 and are offered the second Tuesday of each month from 3:30 – 4:30 p.m. Each month features a new seasonal theme. Groups meet at the pavilion.\nDiscovery Hikes are free – donations are welcomed. This event will be canceled in the event of rain.
URL:https://sustain.auburn.edu/event/family-discovery-hikes/2023-04-11/
LOCATION:Event Venue | Kreher Preserve & Nature Center\, United States
CATEGORIES:Anyone
ATTACH;FMTTYPE=image/png:https://sustain.auburn.edu/wp-content/uploads/2016/12/Kreher-Preserve-Nature-Center-Events.png
GEO:32.658578;-85.485692
END:VEVENT
END:VCALENDAR