BEGIN:VCALENDAR
VERSION:2.0
PRODID:-//Office of Sustainability - ECPv6.15.15//NONSGML v1.0//EN
CALSCALE:GREGORIAN
METHOD:PUBLISH
X-ORIGINAL-URL:https://sustain.auburn.edu
X-WR-CALDESC:Events for Office of Sustainability
REFRESH-INTERVAL;VALUE=DURATION:PT1H
X-Robots-Tag:noindex
X-PUBLISHED-TTL:PT1H
BEGIN:VTIMEZONE
TZID:America/Chicago
BEGIN:DAYLIGHT
TZOFFSETFROM:-0600
TZOFFSETTO:-0500
TZNAME:CDT
DTSTART:20210314T080000
END:DAYLIGHT
BEGIN:STANDARD
TZOFFSETFROM:-0500
TZOFFSETTO:-0600
TZNAME:CST
DTSTART:20211107T070000
END:STANDARD
BEGIN:DAYLIGHT
TZOFFSETFROM:-0600
TZOFFSETTO:-0500
TZNAME:CDT
DTSTART:20220313T080000
END:DAYLIGHT
BEGIN:STANDARD
TZOFFSETFROM:-0500
TZOFFSETTO:-0600
TZNAME:CST
DTSTART:20221106T070000
END:STANDARD
BEGIN:DAYLIGHT
TZOFFSETFROM:-0600
TZOFFSETTO:-0500
TZNAME:CDT
DTSTART:20230312T080000
END:DAYLIGHT
BEGIN:STANDARD
TZOFFSETFROM:-0500
TZOFFSETTO:-0600
TZNAME:CST
DTSTART:20231105T070000
END:STANDARD
BEGIN:DAYLIGHT
TZOFFSETFROM:-0600
TZOFFSETTO:-0500
TZNAME:CDT
DTSTART:20240310T080000
END:DAYLIGHT
BEGIN:STANDARD
TZOFFSETFROM:-0500
TZOFFSETTO:-0600
TZNAME:CST
DTSTART:20241103T070000
END:STANDARD
END:VTIMEZONE
BEGIN:VEVENT
DTSTART;VALUE=DATE:20220930
DTEND;VALUE=DATE:20221118
DTSTAMP:20260422T101932
CREATED:20220930T143403Z
LAST-MODIFIED:20220930T143403Z
UID:10003943-1664496000-1668729599@sustain.auburn.edu
SUMMARY:Beat Bama Food Drive
DESCRIPTION:Since 1994\, Auburn University and the Food Bank of East Alabama have united students\, faculty\, alumni\, and community members to help fight hunger and poverty in East Alabama by challenging the University of Alabama and the West Alabama Food Bank to see who can collect more non-perishable food to help those in need. This good-natured competition has made an impact that reaches far beyond the campuses where it began. Since its inception in 1994\, the competition has raised over 8 million pounds of food for Alabamians without proper access to food. Help Auburn win the food fight trophy in East Alabama as they look to beat hunger and BEAT BAMA!! \nContact: bbfd@auburn.edu
URL:https://sustain.auburn.edu/event/beat-bama-food-drive/
LOCATION:Auburn University Student Center\, Student Center\, 255 Heisman Dr\, Auburn\, AL\, 36849\, United States
CATEGORIES:On-Campus,Students,Volunteer
ATTACH;FMTTYPE=image/png:https://sustain.auburn.edu/wp-content/uploads/2022/09/BBFD-EVENT.png
ORGANIZER;CN="Beat Bama Food Drive":MAILTO:bbfd@auburn.edu
GEO:32.602312;-85.4870926
X-APPLE-STRUCTURED-LOCATION;VALUE=URI;X-ADDRESS=Auburn University Student Center Student Center 255 Heisman Dr Auburn AL 36849 United States;X-APPLE-RADIUS=500;X-TITLE=Student Center\, 255 Heisman Dr:geo:-85.4870926,32.602312
END:VEVENT
BEGIN:VEVENT
DTSTART;VALUE=DATE:20221018
DTEND;VALUE=DATE:20221105
DTSTAMP:20260422T101932
CREATED:20221017T234652Z
LAST-MODIFIED:20221017T234652Z
UID:10003964-1666051200-1667606399@sustain.auburn.edu
SUMMARY:BraveHeart Center for Place and Purpose Art Exhibit
DESCRIPTION:The BraveHeart Center for Place and Purpose\, or BCPP\, is inviting the campus and community to its fall art exhibition and opening reception on Oct. 18 at 3:30 p.m. in Hargis Hall. BCPP is a community inclusion\, health\, and wellness day center which enhances and elevates the lives of young adults with disabilities facing moderate to severe cognitive and communication difficulties. \nThe photo exhibit is free and open to the public at 106 Hargis Hall from Oct. 18 to Nov. 4\, Monday through Friday. Meet the photographers at the opening reception or on Tuesdays from 1-2 p.m. on Oct. 25 and Nov. 1. \nFor more information\, visit the BraveHeart Center for Place and Purpose’s website or contact Angie Burque or Bravehearts@auburn.edu. \n\n\nSubmitted by: Elizabeth Anderson
URL:https://sustain.auburn.edu/event/braveheart-center-for-place-and-purpose-art-exhibit/
LOCATION:Hargis Hall – Room 106\, United States
CATEGORIES:Anyone
GEO:37.09024;-95.712891
END:VEVENT
BEGIN:VEVENT
DTSTART;VALUE=DATE:20221101
DTEND;VALUE=DATE:20221104
DTSTAMP:20260422T101932
CREATED:20220913T153334Z
LAST-MODIFIED:20221004T153326Z
UID:10003891-1667260800-1667519999@sustain.auburn.edu
SUMMARY:The Marble Bowl: Citizen Science Takes the Field
DESCRIPTION:From September 3 through November 26th\, everyone can participate in the Marble Bowl by submitting observations of wild plants\, animals\, and fungi to one of two projects on the iNaturalist platform. This online site stores crowdsourced\, public observations of biological organisms. Listed below are the necessary steps to participate. \n\nVisit inaturalist.org and sign up for a free account. There is also a mobile application for smart devices.\nFollow the “The Marble Bowl” project to keep up with the current score.\n\nBe sure to join either the “Marble Bowl 2022 – Auburn University” or “Marble Bowl 2022 – University of Alabama” project to ensure your observations count and you’re contributing to the appropriate team. Only join one of the two projects or your observations will cancel each other out.\n\n\nTo document an observation\, you may shoot photos of wild organisms with your cell phone or camera.\n\nBecause cell phone photographs are automatically timestamped and geotagged\, all of the necessary information is already with the photograph when you upload it. If you prefer to take photos with a digital camera\, be sure to note the location and include it with your observation if the camera doesn’t geotag it for you.\n\n\nObservations may be uploaded to iNaturalist through a web browser or the app. As you submit observations\, the platform’s artificial intelligence will suggest an identification based off what is in the photo along with similar species that have already been observed nearby. You are allowed to suggest a different identification if you’re confident about what you saw. Select your species\, and then submit your citizen science observation.
URL:https://sustain.auburn.edu/event/the-marble-bowl-citizen-science-takes-the-field/2022-11-01/
LOCATION:Virtual Event\, United States
CATEGORIES:Anyone,Competition,Multi-Day
ATTACH;FMTTYPE=image/png:https://sustain.auburn.edu/wp-content/uploads/2022/08/2022-extension-event.png
GEO:38.7945952;-106.5348379
END:VEVENT
BEGIN:VEVENT
DTSTART;TZID=America/Chicago:20221101T000000
DTEND;TZID=America/Chicago:20230131T235900
DTSTAMP:20260422T101932
CREATED:20201007T164750Z
LAST-MODIFIED:20221024T210030Z
UID:10002551-1667260800-1675209540@sustain.auburn.edu
SUMMARY:Spirit of Sustainability Awards Nominations Open
DESCRIPTION:Nominations for the 2023 Spirit of Sustainability Awards must be submitted to the Office of Sustainability by 11:59 pm on January 31\, 2023. Awardees will be officially recognized at our awards ceremony on Wednesday\, April 19\, 2023. \nPeople affiliated with the following groups are eligible to receive an award: \n\nStudents\nFaculty\nStaff\nAdministration\nAlumni\n\nNominations may be of an individual or a group\, and self-nominations will be allowed. \nTo make a recommendation for an award\, please complete the 2023 Spirit of Sustainability Awards Nomination Form.
URL:https://sustain.auburn.edu/event/spirit-of-sustainability-awards-nominations-open/
LOCATION:Virtual Event\, United States
CATEGORIES:Administration,All-Employees,Alumni,Application-Deadline,Deadline,Evening,Faculty,On-Campus,Staff,Students
ATTACH;FMTTYPE=image/png:https://sustain.auburn.edu/wp-content/uploads/2020/10/SpSA-Event-DxQcuV.tmp_-e1663691045352.png
GEO:38.7945952;-106.5348379
END:VEVENT
BEGIN:VEVENT
DTSTART;TZID=America/Chicago:20221102T093000
DTEND;TZID=America/Chicago:20221102T103000
DTSTAMP:20260422T101932
CREATED:20220908T165655Z
LAST-MODIFIED:20220908T165655Z
UID:10003881-1667381400-1667385000@sustain.auburn.edu
SUMMARY:Creative Clubs
DESCRIPTION:Enrich your child’s day by bringing them to enjoy storytime and artmaking at Creative Clubs! \nOnly for ages 3-5. \nPlease register here. 
URL:https://sustain.auburn.edu/event/creative-clubs/2022-11-02/
LOCATION:Jule Collins Smith Museum of Fine Art
CATEGORIES:Clinic,Daytime,Gathering
ATTACH;FMTTYPE=image/png:https://sustain.auburn.edu/wp-content/uploads/2022/09/Jule-Collins-Smith-Museum-event.png
GEO:32.587748;-85.48373
END:VEVENT
END:VCALENDAR