BEGIN:VCALENDAR
VERSION:2.0
PRODID:-//Office of Sustainability - ECPv6.15.15//NONSGML v1.0//EN
CALSCALE:GREGORIAN
METHOD:PUBLISH
X-WR-CALNAME:Office of Sustainability
X-ORIGINAL-URL:https://sustain.auburn.edu
X-WR-CALDESC:Events for Office of Sustainability
REFRESH-INTERVAL;VALUE=DURATION:PT1H
X-Robots-Tag:noindex
X-PUBLISHED-TTL:PT1H
BEGIN:VTIMEZONE
TZID:America/Chicago
BEGIN:DAYLIGHT
TZOFFSETFROM:-0600
TZOFFSETTO:-0500
TZNAME:CDT
DTSTART:20210314T080000
END:DAYLIGHT
BEGIN:STANDARD
TZOFFSETFROM:-0500
TZOFFSETTO:-0600
TZNAME:CST
DTSTART:20211107T070000
END:STANDARD
BEGIN:DAYLIGHT
TZOFFSETFROM:-0600
TZOFFSETTO:-0500
TZNAME:CDT
DTSTART:20220313T080000
END:DAYLIGHT
BEGIN:STANDARD
TZOFFSETFROM:-0500
TZOFFSETTO:-0600
TZNAME:CST
DTSTART:20221106T070000
END:STANDARD
BEGIN:DAYLIGHT
TZOFFSETFROM:-0600
TZOFFSETTO:-0500
TZNAME:CDT
DTSTART:20230312T080000
END:DAYLIGHT
BEGIN:STANDARD
TZOFFSETFROM:-0500
TZOFFSETTO:-0600
TZNAME:CST
DTSTART:20231105T070000
END:STANDARD
END:VTIMEZONE
BEGIN:VEVENT
DTSTART;VALUE=DATE:20220930
DTEND;VALUE=DATE:20221118
DTSTAMP:20260422T164649
CREATED:20220930T143403Z
LAST-MODIFIED:20220930T143403Z
UID:10003943-1664496000-1668729599@sustain.auburn.edu
SUMMARY:Beat Bama Food Drive
DESCRIPTION:Since 1994\, Auburn University and the Food Bank of East Alabama have united students\, faculty\, alumni\, and community members to help fight hunger and poverty in East Alabama by challenging the University of Alabama and the West Alabama Food Bank to see who can collect more non-perishable food to help those in need. This good-natured competition has made an impact that reaches far beyond the campuses where it began. Since its inception in 1994\, the competition has raised over 8 million pounds of food for Alabamians without proper access to food. Help Auburn win the food fight trophy in East Alabama as they look to beat hunger and BEAT BAMA!! \nContact: bbfd@auburn.edu
URL:https://sustain.auburn.edu/event/beat-bama-food-drive/
LOCATION:Auburn University Student Center\, Student Center\, 255 Heisman Dr\, Auburn\, AL\, 36849\, United States
CATEGORIES:On-Campus,Students,Volunteer
ATTACH;FMTTYPE=image/png:https://sustain.auburn.edu/wp-content/uploads/2022/09/BBFD-EVENT.png
ORGANIZER;CN="Beat Bama Food Drive":MAILTO:bbfd@auburn.edu
GEO:32.602312;-85.4870926
X-APPLE-STRUCTURED-LOCATION;VALUE=URI;X-ADDRESS=Auburn University Student Center Student Center 255 Heisman Dr Auburn AL 36849 United States;X-APPLE-RADIUS=500;X-TITLE=Student Center\, 255 Heisman Dr:geo:-85.4870926,32.602312
END:VEVENT
BEGIN:VEVENT
DTSTART;VALUE=DATE:20221018
DTEND;VALUE=DATE:20221105
DTSTAMP:20260422T164649
CREATED:20221017T234652Z
LAST-MODIFIED:20221017T234652Z
UID:10003964-1666051200-1667606399@sustain.auburn.edu
SUMMARY:BraveHeart Center for Place and Purpose Art Exhibit
DESCRIPTION:The BraveHeart Center for Place and Purpose\, or BCPP\, is inviting the campus and community to its fall art exhibition and opening reception on Oct. 18 at 3:30 p.m. in Hargis Hall. BCPP is a community inclusion\, health\, and wellness day center which enhances and elevates the lives of young adults with disabilities facing moderate to severe cognitive and communication difficulties. \nThe photo exhibit is free and open to the public at 106 Hargis Hall from Oct. 18 to Nov. 4\, Monday through Friday. Meet the photographers at the opening reception or on Tuesdays from 1-2 p.m. on Oct. 25 and Nov. 1. \nFor more information\, visit the BraveHeart Center for Place and Purpose’s website or contact Angie Burque or Bravehearts@auburn.edu. \n\n\nSubmitted by: Elizabeth Anderson
URL:https://sustain.auburn.edu/event/braveheart-center-for-place-and-purpose-art-exhibit/
LOCATION:Hargis Hall – Room 106\, United States
CATEGORIES:Anyone
GEO:37.09024;-95.712891
END:VEVENT
BEGIN:VEVENT
DTSTART;TZID=America/Chicago:20221025T083000
DTEND;TZID=America/Chicago:20221025T093000
DTSTAMP:20260422T164649
CREATED:20221013T232522Z
LAST-MODIFIED:20221013T232522Z
UID:10003956-1666686600-1666690200@sustain.auburn.edu
SUMMARY:Immunity to Change
DESCRIPTION:Immunity to Change: How to overcome it and unlock the potential in yourself and your organization \nKermit Jones\, Ph.D.\, author\, instructor\, speaker\, and Professional Certified Coach (PCC) \nWhat is the one big thing that\, if you (or your organization) could improve\, would impact everything in your world? Immunity to Change addresses the mystery of personal and organizational change in an original way with the idea that individuals\, groups\, and organizations are not blocked by fears for change—as many claim—but more by existing\, hidden mindsets. Read more \nRegister via this link.
URL:https://sustain.auburn.edu/event/immunity-to-change/
LOCATION:Virtual Event\, United States
CATEGORIES:Anyone
GEO:38.7945952;-106.5348379
END:VEVENT
BEGIN:VEVENT
DTSTART;TZID=America/Chicago:20221025T160000
DTEND;TZID=America/Chicago:20221025T170000
DTSTAMP:20260422T164649
CREATED:20221004T161301Z
LAST-MODIFIED:20221004T161301Z
UID:10003002-1666713600-1666717200@sustain.auburn.edu
SUMMARY:Afternoons with Harper Lee
DESCRIPTION:Afternoons with Harper Lee with Dr. Wayne Flynt. \nTo reserve your copy of Afternoons with Harper Lee\, or for more information about Dr. Flynt’s presentation\, please call the Library at 334-501-3190.
URL:https://sustain.auburn.edu/event/afternoons-with-harper-lee/
LOCATION:Auburn University Hotel and Conference Center\, 241 S. College St.\, Auburn\, AL\, 36830
CATEGORIES:Anyone
ATTACH;FMTTYPE=image/png:https://sustain.auburn.edu/wp-content/uploads/2022/08/cater-hall-event-1.png
GEO:32.6029913;-85.4809402
X-APPLE-STRUCTURED-LOCATION;VALUE=URI;X-ADDRESS=Auburn University Hotel and Conference Center 241 S. College St. Auburn AL 36830;X-APPLE-RADIUS=500;X-TITLE=241 S. College St.:geo:-85.4809402,32.6029913
END:VEVENT
BEGIN:VEVENT
DTSTART;TZID=America/Chicago:20221025T183000
DTEND;TZID=America/Chicago:20221025T193000
DTSTAMP:20260422T164649
CREATED:20220829T184158Z
LAST-MODIFIED:20230113T174136Z
UID:10003858-1666722600-1666726200@sustain.auburn.edu
SUMMARY:At Home Beekeeping Series
DESCRIPTION:The Alabama A&M and Auburn Universities Extension office is offering beekeepers the chance to attend virtual meetings from the comfort of one’s own homes using a computer or mobile device. Each event will bring participants up to date on timely beekeeping topics. Time for Q&A included. \nRegister here \nTopics include:\n• August 30- Planting and managing wildflowers for forage\, with K. Parys (USDA-ARS)\n• Sept. 27- Behavior\, chemical ecology\, and genetics of Varroa destructor\, with T. Reams (TAMU)\n• Oct. 25- Breeding and performance of bees with Varroa Sensitive Hygiene\, with F. Rinkevich (USDA-ARS)\n• Nov. 29- Liquid gold: A crash course on the types and properties of honey\, with P. Lau (USDA-ARS)\n• Jan. 31- Seasonal efficacy of Varroa treatments- with C. Jack (UFL)\n• Feb. 28- TBD\, with E. Amiri (MSU)\n• March 28- BMPs from BIP: the National Loss and Management Survey\, with G. Williams (AU)\n• April 25- TBD\, with L. Bartlett (UGA)\n• May 30- Water foraging\, with T. Webster (KSU)\n• June 27\, TDB\, with E. Walsh (USDA-ARS) \nContact:\nAllyson Shabel\nams0137@aces.edu\n(256) 612-6766 \n 
URL:https://sustain.auburn.edu/event/at-home-beekeeping-series/2022-10-25/
CATEGORIES:Anyone,Evening,Seminar,Talk,Training,Web-Based,Webinar
ATTACH;FMTTYPE=image/png:https://sustain.auburn.edu/wp-content/uploads/2022/08/2022-extension-event.png
END:VEVENT
END:VCALENDAR