BEGIN:VCALENDAR
VERSION:2.0
PRODID:-//Office of Sustainability - ECPv6.15.15//NONSGML v1.0//EN
CALSCALE:GREGORIAN
METHOD:PUBLISH
X-ORIGINAL-URL:https://sustain.auburn.edu
X-WR-CALDESC:Events for Office of Sustainability
REFRESH-INTERVAL;VALUE=DURATION:PT1H
X-Robots-Tag:noindex
X-PUBLISHED-TTL:PT1H
BEGIN:VTIMEZONE
TZID:America/Chicago
BEGIN:DAYLIGHT
TZOFFSETFROM:-0600
TZOFFSETTO:-0500
TZNAME:CDT
DTSTART:20210314T080000
END:DAYLIGHT
BEGIN:STANDARD
TZOFFSETFROM:-0500
TZOFFSETTO:-0600
TZNAME:CST
DTSTART:20211107T070000
END:STANDARD
BEGIN:DAYLIGHT
TZOFFSETFROM:-0600
TZOFFSETTO:-0500
TZNAME:CDT
DTSTART:20220313T080000
END:DAYLIGHT
BEGIN:STANDARD
TZOFFSETFROM:-0500
TZOFFSETTO:-0600
TZNAME:CST
DTSTART:20221106T070000
END:STANDARD
BEGIN:DAYLIGHT
TZOFFSETFROM:-0600
TZOFFSETTO:-0500
TZNAME:CDT
DTSTART:20230312T080000
END:DAYLIGHT
BEGIN:STANDARD
TZOFFSETFROM:-0500
TZOFFSETTO:-0600
TZNAME:CST
DTSTART:20231105T070000
END:STANDARD
END:VTIMEZONE
BEGIN:VEVENT
DTSTART;TZID=America/Chicago:20220923T080000
DTEND;TZID=America/Chicago:20220923T170000
DTSTAMP:20260422T015157
CREATED:20220912T180747Z
LAST-MODIFIED:20220912T180931Z
UID:10003888-1663920000-1663952400@sustain.auburn.edu
SUMMARY:Sundilla Concert Series
DESCRIPTION:Michael McDermott will make his Sundilla debut on Friday\, September 23. Showtime at Pebble Hill is 7:30. Advance tickets are just $20 and can be found at Spicer’s Music\, Ross House Coffee\, or via this link to online tickets. \nAdmission at the door will be $25. Michael McDermott might be something of an unknown in some places\, but don’t be fooled into thinking that he’s a complete unknown. Stephen King – yes\, THAT Stephen King – says “Michael McDermott is one of the best songwriters in the world and possibly the greatest undiscovered rock n roll talent of the last 20 years.”
URL:https://sustain.auburn.edu/event/sundilla-concert-series/
LOCATION:Pebble Hill – College of Liberal Arts\, United States
CATEGORIES:Anyone,Concert,Performance
ATTACH;FMTTYPE=image/png:https://sustain.auburn.edu/wp-content/uploads/2022/08/cater-hall-event-1.png
GEO:32.606519;-85.47234
END:VEVENT
BEGIN:VEVENT
DTSTART;TZID=America/Chicago:20220923T160000
DTEND;TZID=America/Chicago:20220923T170000
DTSTAMP:20260422T015157
CREATED:20220112T202344Z
LAST-MODIFIED:20220112T204558Z
UID:10003601-1663948800-1663952400@sustain.auburn.edu
SUMMARY:ISO Social Hour
DESCRIPTION:ISO Social Hour is a social/cultural event every Friday afternoon from 4:00-5:00pm in The Melton Student Center! Swing by to experience the culture of the student cultural organization we are highlighting that week! There will be free food!
URL:https://sustain.auburn.edu/event/iso-social-hour/2022-09-23/
LOCATION:Melton Student Center – Room 2222\, 225 Heisman Dr.\, Auburn\, AL\, 36849\, United States
CATEGORIES:On-Campus,Students
GEO:32.6009848;-85.4894075
X-APPLE-STRUCTURED-LOCATION;VALUE=URI;X-ADDRESS=Melton Student Center – Room 2222 225 Heisman Dr. Auburn AL 36849 United States;X-APPLE-RADIUS=500;X-TITLE=225 Heisman Dr.:geo:-85.4894075,32.6009848
END:VEVENT
BEGIN:VEVENT
DTSTART;TZID=America/Chicago:20220923T160000
DTEND;TZID=America/Chicago:20220923T170000
DTSTAMP:20260422T015157
CREATED:20220912T172536Z
LAST-MODIFIED:20221003T164539Z
UID:10002966-1663948800-1663952400@sustain.auburn.edu
SUMMARY:Football\, Fans\, and Feathers Show
DESCRIPTION:Auburn University’s Southeastern Raptor Center will host its annual fall educational series—Football\, Fans\, and Feathers—again this season on Fridays before home football games. \nEight shows will give guests an opportunity to experience an up-close view of birds of prey while exploring the mysteries of their survival\, flight\, and ecological roles. \nTickets may be purchased in advance or at the event \nThis is a cash-free event\, so please bring a card or checks. \nFor more information\, visit www.auburn.edu/raptor  \n 
URL:https://sustain.auburn.edu/event/fans-and-feathers-show/2022-09-23/
LOCATION:Edgar B. Carter Educational Amphitheater
GEO:32.598344;-85.514148
END:VEVENT
BEGIN:VEVENT
DTSTART;TZID=America/Chicago:20220923T180000
DTEND;TZID=America/Chicago:20220923T210000
DTSTAMP:20260422T015157
CREATED:20220913T165900Z
LAST-MODIFIED:20220913T165900Z
UID:10003928-1663956000-1663966800@sustain.auburn.edu
SUMMARY:Homecoming Parade and Pep Rally
DESCRIPTION:Join Auburn University to celebrate in the Homecoming Parade.
URL:https://sustain.auburn.edu/event/homecoming-parade-and-pep-rally/
LOCATION:Auburn University\, Auburn\, AL\, 36849\, United States
CATEGORIES:Anyone,Celebration
GEO:32.5909562;-85.4929785
END:VEVENT
END:VCALENDAR