BEGIN:VCALENDAR
VERSION:2.0
PRODID:-//Office of Sustainability - ECPv6.15.15//NONSGML v1.0//EN
CALSCALE:GREGORIAN
METHOD:PUBLISH
X-WR-CALNAME:Office of Sustainability
X-ORIGINAL-URL:https://sustain.auburn.edu
X-WR-CALDESC:Events for Office of Sustainability
REFRESH-INTERVAL;VALUE=DURATION:PT1H
X-Robots-Tag:noindex
X-PUBLISHED-TTL:PT1H
BEGIN:VTIMEZONE
TZID:America/Chicago
BEGIN:DAYLIGHT
TZOFFSETFROM:-0600
TZOFFSETTO:-0500
TZNAME:CDT
DTSTART:20210314T080000
END:DAYLIGHT
BEGIN:STANDARD
TZOFFSETFROM:-0500
TZOFFSETTO:-0600
TZNAME:CST
DTSTART:20211107T070000
END:STANDARD
BEGIN:DAYLIGHT
TZOFFSETFROM:-0600
TZOFFSETTO:-0500
TZNAME:CDT
DTSTART:20220313T080000
END:DAYLIGHT
BEGIN:STANDARD
TZOFFSETFROM:-0500
TZOFFSETTO:-0600
TZNAME:CST
DTSTART:20221106T070000
END:STANDARD
BEGIN:DAYLIGHT
TZOFFSETFROM:-0600
TZOFFSETTO:-0500
TZNAME:CDT
DTSTART:20230312T080000
END:DAYLIGHT
BEGIN:STANDARD
TZOFFSETFROM:-0500
TZOFFSETTO:-0600
TZNAME:CST
DTSTART:20231105T070000
END:STANDARD
END:VTIMEZONE
BEGIN:VEVENT
DTSTART;TZID=America/Chicago:20220630T150000
DTEND;TZID=America/Chicago:20220630T180000
DTSTAMP:20260420T093657
CREATED:20210621T133935Z
LAST-MODIFIED:20220518T194225Z
UID:10002828-1656601200-1656612000@sustain.auburn.edu
SUMMARY:Market at Ag Heritage Park
DESCRIPTION:The market is an open-air\, growers-only farmers’ market hosted by the College of Agriculture featuring area vendors offering fresh\, locally grown fruits and vegetables\, herbs\, ornamental plants and cut flowers\, as well as locally produced jams and jellies\, baked goods\, soaps\, honey\, goat cheese and more. \nThe Market at Ag Heritage Park at Auburn University is open for the summer season through Aug. 25th\, weather permitting. \n 
URL:https://sustain.auburn.edu/event/market-at-ag-heritage-park-4/2022-06-30/
LOCATION:The ALFA Pavilion at Ag Heritage Park
CATEGORIES:Anyone,On-Campus
GEO:32.594323;-85.490941
END:VEVENT
BEGIN:VEVENT
DTSTART;TZID=America/Chicago:20220630T180000
DTEND;TZID=America/Chicago:20220630T200000
DTSTAMP:20260420T093657
CREATED:20220614T151731Z
LAST-MODIFIED:20220614T152627Z
UID:10003749-1656612000-1656619200@sustain.auburn.edu
SUMMARY:Independent Film Series
DESCRIPTION:On Thursday nights this summer\, venture to The Jule for experimental and creative films\, free of charge and open to everyone. Each selection is programmed with “Radical Naturalism.” Award-winning filmmakers explore new relationships with nature\, image-making techniques\, interview subjects and cultural investigations. \nWhat is radical naturalism? Guest curators and contemporary artists inspired by nature consider the environment and conservation by creating new work and researching Auburn’s collection of Audubon etchings and other natural history collections. \nAdmission is free and donations are appreciated.
URL:https://sustain.auburn.edu/event/independent-film-series-plantarians/2022-06-30/
LOCATION:Jule Collins Smith Museum of Fine Art
CATEGORIES:Film
GEO:32.587748;-85.48373
END:VEVENT
END:VCALENDAR