BEGIN:VCALENDAR
VERSION:2.0
PRODID:-//Office of Sustainability - ECPv6.15.15//NONSGML v1.0//EN
CALSCALE:GREGORIAN
METHOD:PUBLISH
X-WR-CALNAME:Office of Sustainability
X-ORIGINAL-URL:https://sustain.auburn.edu
X-WR-CALDESC:Events for Office of Sustainability
REFRESH-INTERVAL;VALUE=DURATION:PT1H
X-Robots-Tag:noindex
X-PUBLISHED-TTL:PT1H
BEGIN:VTIMEZONE
TZID:America/Chicago
BEGIN:DAYLIGHT
TZOFFSETFROM:-0600
TZOFFSETTO:-0500
TZNAME:CDT
DTSTART:20210314T080000
END:DAYLIGHT
BEGIN:STANDARD
TZOFFSETFROM:-0500
TZOFFSETTO:-0600
TZNAME:CST
DTSTART:20211107T070000
END:STANDARD
BEGIN:DAYLIGHT
TZOFFSETFROM:-0600
TZOFFSETTO:-0500
TZNAME:CDT
DTSTART:20220313T080000
END:DAYLIGHT
BEGIN:STANDARD
TZOFFSETFROM:-0500
TZOFFSETTO:-0600
TZNAME:CST
DTSTART:20221106T070000
END:STANDARD
BEGIN:DAYLIGHT
TZOFFSETFROM:-0600
TZOFFSETTO:-0500
TZNAME:CDT
DTSTART:20230312T080000
END:DAYLIGHT
BEGIN:STANDARD
TZOFFSETFROM:-0500
TZOFFSETTO:-0600
TZNAME:CST
DTSTART:20231105T070000
END:STANDARD
END:VTIMEZONE
BEGIN:VEVENT
DTSTART;TZID=America/Chicago:20220222T083000
DTEND;TZID=America/Chicago:20220222T093000
DTSTAMP:20260420T233811
CREATED:20220216T204555Z
LAST-MODIFIED:20220216T204703Z
UID:10003689-1645518600-1645522200@sustain.auburn.edu
SUMMARY:EagleCast Webinar Series | Mindful Couple Relationships
DESCRIPTION:What are the research-based practices related to healthy couple relationships? How does mindfulness affect our relationships? This interactive webinar offered by Auburn University’s Office of Professional and Continuing Education focuses on couple relationships\, providing key skills and activities that promote healthy couple relationships through mindfulness. \nRegister Online Here
URL:https://sustain.auburn.edu/event/eaglecast-webinar-series-mindful-couple-relationships/
CATEGORIES:Seminar,Web-Based
END:VEVENT
BEGIN:VEVENT
DTSTART;TZID=America/Chicago:20220222T173000
DTEND;TZID=America/Chicago:20220222T193000
DTSTAMP:20260420T233811
CREATED:20211217T182325Z
LAST-MODIFIED:20220201T212709Z
UID:10003560-1645551000-1645558200@sustain.auburn.edu
SUMMARY:Outdoor Film Festival: Diverse Voices Connecting Humans to the Natural World
DESCRIPTION:Join the Office of Sustainability and Diversity in Honors for our spring outdoor film festival. A collection from the Oscillation Transia Film Festival with the theme of human connection to the natural world and amplifying the voices of Black\, Indigenous\, and other People of Color will be shown. Oscillation Transia is a non-profit organization that explores environmental awareness through the art of film and seeks to feature diverse voices. \nFree popcorn and hot chocolate and tea will be served. Bring your own mug and water bottle\, chair/blanket\, and dress for the weather to get cozy and watch films that amplify diverse voices and feature beautiful stories.  \nThe event will be held outside in the Pebble Hill courtyard. In the case of rain or high winds\, we would move indoors.  
URL:https://sustain.auburn.edu/event/outdoor-film/
LOCATION:Pebble Hill
CATEGORIES:Anyone
GEO:32.606519;-85.47234
END:VEVENT
END:VCALENDAR