BEGIN:VCALENDAR
VERSION:2.0
PRODID:-//Office of Sustainability - ECPv6.15.15//NONSGML v1.0//EN
CALSCALE:GREGORIAN
METHOD:PUBLISH
X-ORIGINAL-URL:https://sustain.auburn.edu
X-WR-CALDESC:Events for Office of Sustainability
REFRESH-INTERVAL;VALUE=DURATION:PT1H
X-Robots-Tag:noindex
X-PUBLISHED-TTL:PT1H
BEGIN:VTIMEZONE
TZID:America/Chicago
BEGIN:DAYLIGHT
TZOFFSETFROM:-0600
TZOFFSETTO:-0500
TZNAME:CDT
DTSTART:20200308T080000
END:DAYLIGHT
BEGIN:STANDARD
TZOFFSETFROM:-0500
TZOFFSETTO:-0600
TZNAME:CST
DTSTART:20201101T070000
END:STANDARD
BEGIN:DAYLIGHT
TZOFFSETFROM:-0600
TZOFFSETTO:-0500
TZNAME:CDT
DTSTART:20210314T080000
END:DAYLIGHT
BEGIN:STANDARD
TZOFFSETFROM:-0500
TZOFFSETTO:-0600
TZNAME:CST
DTSTART:20211107T070000
END:STANDARD
BEGIN:DAYLIGHT
TZOFFSETFROM:-0600
TZOFFSETTO:-0500
TZNAME:CDT
DTSTART:20220313T080000
END:DAYLIGHT
BEGIN:STANDARD
TZOFFSETFROM:-0500
TZOFFSETTO:-0600
TZNAME:CST
DTSTART:20221106T070000
END:STANDARD
END:VTIMEZONE
BEGIN:VEVENT
DTSTART;TZID=America/Chicago:20210911T090000
DTEND;TZID=America/Chicago:20210911T110000
DTSTAMP:20260425T160221
CREATED:20210518T143410Z
LAST-MODIFIED:20210518T160901Z
UID:10003485-1631350800-1631358000@sustain.auburn.edu
SUMMARY:Tree Magic: Nature Art Series
DESCRIPTION:The KPNC teams up with Heather Jackson\, local artist\, to bring you a fun and educational art workshop series. Given there is a wide variety of wildlife and plants to see\, sketch\, and learn about\, she envisioned bringing community together through creating art in nature. Thus\, the idea for this Nature Art Series was born engaging the community in nature appreciation\, education\, and conservation through intentional creativity.
URL:https://sustain.auburn.edu/event/bees-nature-art-series-2021-09-11/
LOCATION:Event Venue | Kreher Preserve & Nature Center\, United States
CATEGORIES:Anyone
GEO:32.658578;-85.485692
END:VEVENT
END:VCALENDAR