BEGIN:VCALENDAR
VERSION:2.0
PRODID:-//Office of Sustainability - ECPv6.15.15//NONSGML v1.0//EN
CALSCALE:GREGORIAN
METHOD:PUBLISH
X-ORIGINAL-URL:https://sustain.auburn.edu
X-WR-CALDESC:Events for Office of Sustainability
REFRESH-INTERVAL;VALUE=DURATION:PT1H
X-Robots-Tag:noindex
X-PUBLISHED-TTL:PT1H
BEGIN:VTIMEZONE
TZID:America/Chicago
BEGIN:DAYLIGHT
TZOFFSETFROM:-0600
TZOFFSETTO:-0500
TZNAME:CDT
DTSTART:20200308T080000
END:DAYLIGHT
BEGIN:STANDARD
TZOFFSETFROM:-0500
TZOFFSETTO:-0600
TZNAME:CST
DTSTART:20201101T070000
END:STANDARD
BEGIN:DAYLIGHT
TZOFFSETFROM:-0600
TZOFFSETTO:-0500
TZNAME:CDT
DTSTART:20210314T080000
END:DAYLIGHT
BEGIN:STANDARD
TZOFFSETFROM:-0500
TZOFFSETTO:-0600
TZNAME:CST
DTSTART:20211107T070000
END:STANDARD
BEGIN:DAYLIGHT
TZOFFSETFROM:-0600
TZOFFSETTO:-0500
TZNAME:CDT
DTSTART:20220313T080000
END:DAYLIGHT
BEGIN:STANDARD
TZOFFSETFROM:-0500
TZOFFSETTO:-0600
TZNAME:CST
DTSTART:20221106T070000
END:STANDARD
END:VTIMEZONE
BEGIN:VEVENT
DTSTART;TZID=America/Chicago:20210814T080000
DTEND;TZID=America/Chicago:20210814T110000
DTSTAMP:20260425T232954
CREATED:20210106T201722Z
LAST-MODIFIED:20210106T201722Z
UID:10003320-1628928000-1628938800@sustain.auburn.edu
SUMMARY:City Market
DESCRIPTION:City Market is back for the summer season. Auburn Parks and Recreation invites the community\, growers and consumers alike\, to join them Saturdays from May to August. \nThe market will host local farmers\, growers\, and artists to sell their produce and products. Farmers\, growers\, and artists who are interested in participating in the City Market must complete an\napplication and submit their Grower’s Permit to the Market Coordinator. Materials may be submitted in person at the Harris Center (425 Perry Street) or via email to the Market Coordinator. \n*COVID 19 note: All market visitors must maintain a minimum of 6 feet between one another. All vendors will follow the state sanitation guidelines regarding farmers markets:\n• Food samples will not be served\, and cooking demonstrations will not be allowed.\n• Vendors will maintain a 10-foot distance from one another.\n• All vendors will wear food safe serving gloves and will designate one worker to handle payment.\n• Face mask are required.
URL:https://sustain.auburn.edu/event/city-market-3/2021-08-14/
LOCATION:Event Venue | Town Creek Park\, United States
CATEGORIES:Administration,Alumni,Anyone,Daytime,Faculty,Graduate Students,Market,Off Campus,Staff,Students
GEO:32.5844913206;-85.4756279188
END:VEVENT
END:VCALENDAR